BEGIN:VCALENDAR
VERSION:2.0
PRODID:http://www.pfarrei-heilig-geist-eppelborn.de
BEGIN:VEVENT
UID:61337b21-3ec1-11f1-a3e9-0242ac11002b-1785513600000-de
DTSTAMP:20260423T030610Z
DTSTART:20260731T160000Z
DTEND:20260731T164500Z
SUMMARY;LANGUAGE=de:Abendmesse
URL:http://www.pfarrei-heilig-geist-eppelborn.de/aktuelles/gottesdienste/gottesdienst/Abendmesse-2026.07.31/
END:VEVENT
END:VCALENDAR
